BEGIN:VCALENDAR
VERSION:2.0
PRODID:-//CoEHAR - ECPv6.15.20//NONSGML v1.0//EN
CALSCALE:GREGORIAN
METHOD:PUBLISH
X-ORIGINAL-URL:https://www.coehar.org
X-WR-CALDESC:Events for CoEHAR
REFRESH-INTERVAL;VALUE=DURATION:PT1H
X-Robots-Tag:noindex
X-PUBLISHED-TTL:PT1H
BEGIN:VTIMEZONE
TZID:Europe/Rome
BEGIN:DAYLIGHT
TZOFFSETFROM:+0100
TZOFFSETTO:+0200
TZNAME:CEST
DTSTART:20220327T010000
END:DAYLIGHT
BEGIN:STANDARD
TZOFFSETFROM:+0200
TZOFFSETTO:+0100
TZNAME:CET
DTSTART:20221030T010000
END:STANDARD
BEGIN:DAYLIGHT
TZOFFSETFROM:+0100
TZOFFSETTO:+0200
TZNAME:CEST
DTSTART:20230326T010000
END:DAYLIGHT
BEGIN:STANDARD
TZOFFSETFROM:+0200
TZOFFSETTO:+0100
TZNAME:CET
DTSTART:20231029T010000
END:STANDARD
BEGIN:DAYLIGHT
TZOFFSETFROM:+0100
TZOFFSETTO:+0200
TZNAME:CEST
DTSTART:20240331T010000
END:DAYLIGHT
BEGIN:STANDARD
TZOFFSETFROM:+0200
TZOFFSETTO:+0100
TZNAME:CET
DTSTART:20241027T010000
END:STANDARD
END:VTIMEZONE
BEGIN:VEVENT
DTSTART;VALUE=DATE:20230126
DTEND;VALUE=DATE:20230127
DTSTAMP:20260423T114749
CREATED:20230125T155922Z
LAST-MODIFIED:20230125T155922Z
UID:11026-1674691200-1674777599@www.coehar.org
SUMMARY:UK E-Cigarette Research Forum
DESCRIPTION:Evidence so far indicates e-cigarettes are far less harmful than tobacco and can help people who smoke to cut down or stop smoking. However\, more evidence is needed to help inform smokers and policy-makers looking to reduce the harm from tobacco. \nThe UK E-Cigarette Research Forum (UKECRF) is an initiative led by Cancer Research UK in collaboration with leading experts in the field of e-cigarettes and tobacco control. The Forum brings together policy-makers\, researchers\, practitioners and the NGO community to discuss the emerging evidence and knowledge gaps about e-cigarettes. The group also seeks to identify research priorities\, generate ideas for new research projects and enhance collaboration between forum participants.
URL:https://www.coehar.org/event/uk-e-cigarette-research-forum/
ATTACH;FMTTYPE=image/jpeg:https://www.coehar.org/wp-content/uploads/2023/01/th_0134_ukecrf_banner_253x169_without_spectrum.jpg
END:VEVENT
END:VCALENDAR