BEGIN:VCALENDAR
VERSION:2.0
PRODID:-//CoEHAR - ECPv6.15.20//NONSGML v1.0//EN
CALSCALE:GREGORIAN
METHOD:PUBLISH
X-WR-CALNAME:CoEHAR
X-ORIGINAL-URL:https://www.coehar.org
X-WR-CALDESC:Events for CoEHAR
REFRESH-INTERVAL;VALUE=DURATION:PT1H
X-Robots-Tag:noindex
X-PUBLISHED-TTL:PT1H
BEGIN:VTIMEZONE
TZID:Europe/Rome
BEGIN:DAYLIGHT
TZOFFSETFROM:+0100
TZOFFSETTO:+0200
TZNAME:CEST
DTSTART:20220327T010000
END:DAYLIGHT
BEGIN:STANDARD
TZOFFSETFROM:+0200
TZOFFSETTO:+0100
TZNAME:CET
DTSTART:20221030T010000
END:STANDARD
BEGIN:DAYLIGHT
TZOFFSETFROM:+0100
TZOFFSETTO:+0200
TZNAME:CEST
DTSTART:20230326T010000
END:DAYLIGHT
BEGIN:STANDARD
TZOFFSETFROM:+0200
TZOFFSETTO:+0100
TZNAME:CET
DTSTART:20231029T010000
END:STANDARD
BEGIN:DAYLIGHT
TZOFFSETFROM:+0100
TZOFFSETTO:+0200
TZNAME:CEST
DTSTART:20240331T010000
END:DAYLIGHT
BEGIN:STANDARD
TZOFFSETFROM:+0200
TZOFFSETTO:+0100
TZNAME:CET
DTSTART:20241027T010000
END:STANDARD
END:VTIMEZONE
BEGIN:VEVENT
DTSTART;TZID=Europe/Rome:20230602T150000
DTEND;TZID=Europe/Rome:20230602T160000
DTSTAMP:20260423T115822
CREATED:20230515T102251Z
LAST-MODIFIED:20230515T102333Z
UID:11713-1685718000-1685721600@www.coehar.org
SUMMARY:E-Cigarettes\, Risk Perceptions\, and Taxes
DESCRIPTION:Unraveling the complexities of e-cigarette risk perceptions and the impact of taxation on youth consumption.
URL:https://www.coehar.org/event/e-cigarettes-risk-perceptions-and-taxes/
LOCATION:Web Event
ATTACH;FMTTYPE=image/png:https://www.coehar.org/wp-content/uploads/2023/05/ecig-risk-perceptions-taxes.png
END:VEVENT
END:VCALENDAR