BEGIN:VCALENDAR
VERSION:2.0
PRODID:-//CoEHAR - ECPv6.15.20//NONSGML v1.0//EN
CALSCALE:GREGORIAN
METHOD:PUBLISH
X-ORIGINAL-URL:https://www.coehar.org
X-WR-CALDESC:Events for CoEHAR
REFRESH-INTERVAL;VALUE=DURATION:PT1H
X-Robots-Tag:noindex
X-PUBLISHED-TTL:PT1H
BEGIN:VTIMEZONE
TZID:Europe/Rome
BEGIN:DAYLIGHT
TZOFFSETFROM:+0100
TZOFFSETTO:+0200
TZNAME:CEST
DTSTART:20220327T010000
END:DAYLIGHT
BEGIN:STANDARD
TZOFFSETFROM:+0200
TZOFFSETTO:+0100
TZNAME:CET
DTSTART:20221030T010000
END:STANDARD
BEGIN:DAYLIGHT
TZOFFSETFROM:+0100
TZOFFSETTO:+0200
TZNAME:CEST
DTSTART:20230326T010000
END:DAYLIGHT
BEGIN:STANDARD
TZOFFSETFROM:+0200
TZOFFSETTO:+0100
TZNAME:CET
DTSTART:20231029T010000
END:STANDARD
BEGIN:DAYLIGHT
TZOFFSETFROM:+0100
TZOFFSETTO:+0200
TZNAME:CEST
DTSTART:20240331T010000
END:DAYLIGHT
BEGIN:STANDARD
TZOFFSETFROM:+0200
TZOFFSETTO:+0100
TZNAME:CET
DTSTART:20241027T010000
END:STANDARD
END:VTIMEZONE
BEGIN:VEVENT
DTSTART;VALUE=DATE:20231008
DTEND;VALUE=DATE:20231013
DTSTAMP:20260424T034235
CREATED:20230308T143632Z
LAST-MODIFIED:20230308T143632Z
UID:11229-1696723200-1697155199@www.coehar.org
SUMMARY:Smoke-Techno Conference (SSPT2023)
DESCRIPTION:CORESTA is very pleased to announce that the next\nCORESTA Smoke Science & Product Technology Conference (SSPT2023)\nwill be held in-person from 8-12 October 2023\, in Cancun\, Mexico. \nMore information about the Conference will be made available in due course.
URL:https://www.coehar.org/event/smoke-techno-conference-sspt2023/
LOCATION:Cancun\, Cancun\, Mexico
ATTACH;FMTTYPE=image/jpeg:https://www.coehar.org/wp-content/uploads/2023/03/coresta-sspt-2023.jpg
END:VEVENT
END:VCALENDAR