BEGIN:VCALENDAR
VERSION:2.0
PRODID:-//CoEHAR - ECPv6.15.20//NONSGML v1.0//EN
CALSCALE:GREGORIAN
METHOD:PUBLISH
X-WR-CALNAME:CoEHAR
X-ORIGINAL-URL:https://www.coehar.org
X-WR-CALDESC:Events for CoEHAR
REFRESH-INTERVAL;VALUE=DURATION:PT1H
X-Robots-Tag:noindex
X-PUBLISHED-TTL:PT1H
BEGIN:VTIMEZONE
TZID:Europe/Rome
BEGIN:DAYLIGHT
TZOFFSETFROM:+0100
TZOFFSETTO:+0200
TZNAME:CEST
DTSTART:20220327T010000
END:DAYLIGHT
BEGIN:STANDARD
TZOFFSETFROM:+0200
TZOFFSETTO:+0100
TZNAME:CET
DTSTART:20221030T010000
END:STANDARD
BEGIN:DAYLIGHT
TZOFFSETFROM:+0100
TZOFFSETTO:+0200
TZNAME:CEST
DTSTART:20230326T010000
END:DAYLIGHT
BEGIN:STANDARD
TZOFFSETFROM:+0200
TZOFFSETTO:+0100
TZNAME:CET
DTSTART:20231029T010000
END:STANDARD
BEGIN:DAYLIGHT
TZOFFSETFROM:+0100
TZOFFSETTO:+0200
TZNAME:CEST
DTSTART:20240331T010000
END:DAYLIGHT
BEGIN:STANDARD
TZOFFSETFROM:+0200
TZOFFSETTO:+0100
TZNAME:CET
DTSTART:20241027T010000
END:STANDARD
END:VTIMEZONE
BEGIN:VEVENT
DTSTART;VALUE=DATE:20231109
DTEND;VALUE=DATE:20231112
DTSTAMP:20260424T051045
CREATED:20231103T115941Z
LAST-MODIFIED:20231103T115941Z
UID:13344-1699488000-1699747199@www.coehar.org
SUMMARY:ITS Scientific Meeting 2023
DESCRIPTION:The ITS Scientific Meeting 2023 is scheduled to take place from 9th to 11th November at the Limerick Strand Hotel in Limerick. The event will include the ITS Case Study Forum as part of the ITS Annual Scientific Meeting on Thursday\, 9th November starting at 17:15. Attendees are encouraged to register by email by the 3rd of November to secure their participation. Accommodation details are available\, and it is noted that parking at the Strand Hotel is limited\, so delegates arriving later than Friday morning are advised to use adjacent car parks. Travel and car parking information can be found on the event’s website.
URL:https://www.coehar.org/event/its-scientific-meeting-2023/
LOCATION:Limerick\, Limerick\, Ireland
ATTACH;FMTTYPE=image/jpeg:https://www.coehar.org/wp-content/uploads/2023/11/its-meeting.jpg
END:VEVENT
BEGIN:VEVENT
DTSTART;VALUE=DATE:20231110
DTEND;VALUE=DATE:20231114
DTSTAMP:20260424T051045
CREATED:20231030T150313Z
LAST-MODIFIED:20231030T150313Z
UID:13209-1699574400-1699919999@www.coehar.org
SUMMARY:AHA Scientific Sessions 2023
DESCRIPTION:The AHA Scientific Sessions 2023\, scheduled to take place from November 10 to 13 at the Philadelphia Convention Center in Philadelphia\, PA\, is a prominent event in the field of cardiology. It begins with Pre-Sessions Symposia and an Early Career Day on November 10\, followed by the main Scientific Sessions from November 11 to 13. \nFor Exhibitors: \n\nThe event offers an online presence on the event’s official website and a suite of marketing tools.\nExhibitors will be provided with the final registration list from the Scientific Sessions 2022.\nComplimentary unlimited exhibit-only badges will be available for company representatives.\nSpecial discounted housing rates are provided for exhibitors in Philadelphia.\nAdditional resources include access to the Symposia Schedule\, Locator Guide\, and exclusive exhibitor emails.\nA 50% deposit is required to secure exhibit space\, with details on cancellations\, eligibility\, and space application available on the event’s website.\nThe exhibit dates and rates are prioritized to enhance the exhibiting experience.\n\nThis prospectus is designed to help exhibitors understand the benefits and opportunities available at the sessions\, including significant exposure to influential cardiologists and other healthcare professionals. The event aims to provide an unparalleled exhibit hall experience\, fostering networking and collaboration opportunities within the scientific community.
URL:https://www.coehar.org/event/aha-scientific-sessions-2023/
LOCATION:Philadelphia\, United States
ATTACH;FMTTYPE=image/jpeg:https://www.coehar.org/wp-content/uploads/2023/10/AHA-Scientific-Sessions-2023.jpg
END:VEVENT
END:VCALENDAR