BEGIN:VCALENDAR
VERSION:2.0
PRODID:-//CoEHAR - ECPv6.15.20//NONSGML v1.0//EN
CALSCALE:GREGORIAN
METHOD:PUBLISH
X-WR-CALNAME:CoEHAR
X-ORIGINAL-URL:https://www.coehar.org
X-WR-CALDESC:Events for CoEHAR
REFRESH-INTERVAL;VALUE=DURATION:PT1H
X-Robots-Tag:noindex
X-PUBLISHED-TTL:PT1H
BEGIN:VTIMEZONE
TZID:Europe/Rome
BEGIN:DAYLIGHT
TZOFFSETFROM:+0100
TZOFFSETTO:+0200
TZNAME:CEST
DTSTART:20220327T010000
END:DAYLIGHT
BEGIN:STANDARD
TZOFFSETFROM:+0200
TZOFFSETTO:+0100
TZNAME:CET
DTSTART:20221030T010000
END:STANDARD
BEGIN:DAYLIGHT
TZOFFSETFROM:+0100
TZOFFSETTO:+0200
TZNAME:CEST
DTSTART:20230326T010000
END:DAYLIGHT
BEGIN:STANDARD
TZOFFSETFROM:+0200
TZOFFSETTO:+0100
TZNAME:CET
DTSTART:20231029T010000
END:STANDARD
BEGIN:DAYLIGHT
TZOFFSETFROM:+0100
TZOFFSETTO:+0200
TZNAME:CEST
DTSTART:20240331T010000
END:DAYLIGHT
BEGIN:STANDARD
TZOFFSETFROM:+0200
TZOFFSETTO:+0100
TZNAME:CET
DTSTART:20241027T010000
END:STANDARD
END:VTIMEZONE
BEGIN:VEVENT
DTSTART;VALUE=DATE:20231115
DTEND;VALUE=DATE:20231119
DTSTAMP:20260424T051050
CREATED:20231103T115604Z
LAST-MODIFIED:20231103T115604Z
UID:13341-1700006400-1700351999@www.coehar.org
SUMMARY:The Union World Conference on Lung Health 2023
DESCRIPTION:The Union World Conference on Lung Health 2023\, with the theme “Transforming Evidence into Practice\,” is set to take place in-person from 15-18 November at the Palais des Congrès in Paris. This conference\, which has been held annually for 53 years\, is a key event for presenting the latest scientific research in all aspects of lung health. The focus of the conference is not just on generating and presenting new evidence from research but also on the crucial step of implementation. The goal is to convert research into practice\, striving for evidence-based health policies and decisions.
URL:https://www.coehar.org/event/the-union-world-conference-on-lung-health-2023/
LOCATION:Paris\, Paris\, France
ATTACH;FMTTYPE=image/jpeg:https://www.coehar.org/wp-content/uploads/2023/11/The-Union-World-Conference-on-Lung-Health-2023.jpg
END:VEVENT
END:VCALENDAR