BEGIN:VCALENDAR
VERSION:2.0
PRODID:-//CoEHAR - ECPv6.15.20//NONSGML v1.0//EN
CALSCALE:GREGORIAN
METHOD:PUBLISH
X-WR-CALNAME:CoEHAR
X-ORIGINAL-URL:https://www.coehar.org
X-WR-CALDESC:Events for CoEHAR
REFRESH-INTERVAL;VALUE=DURATION:PT1H
X-Robots-Tag:noindex
X-PUBLISHED-TTL:PT1H
BEGIN:VTIMEZONE
TZID:Europe/Rome
BEGIN:DAYLIGHT
TZOFFSETFROM:+0100
TZOFFSETTO:+0200
TZNAME:CEST
DTSTART:20220327T010000
END:DAYLIGHT
BEGIN:STANDARD
TZOFFSETFROM:+0200
TZOFFSETTO:+0100
TZNAME:CET
DTSTART:20221030T010000
END:STANDARD
BEGIN:DAYLIGHT
TZOFFSETFROM:+0100
TZOFFSETTO:+0200
TZNAME:CEST
DTSTART:20230326T010000
END:DAYLIGHT
BEGIN:STANDARD
TZOFFSETFROM:+0200
TZOFFSETTO:+0100
TZNAME:CET
DTSTART:20231029T010000
END:STANDARD
BEGIN:DAYLIGHT
TZOFFSETFROM:+0100
TZOFFSETTO:+0200
TZNAME:CEST
DTSTART:20240331T010000
END:DAYLIGHT
BEGIN:STANDARD
TZOFFSETFROM:+0200
TZOFFSETTO:+0100
TZNAME:CET
DTSTART:20241027T010000
END:STANDARD
END:VTIMEZONE
BEGIN:VEVENT
DTSTART;VALUE=DATE:20231122
DTEND;VALUE=DATE:20231125
DTSTAMP:20260424T051050
CREATED:20231103T114718Z
LAST-MODIFIED:20231103T114718Z
UID:13334-1700611200-1700870399@www.coehar.org
SUMMARY:Winter Meeting 2023
DESCRIPTION:The Winter Meeting 2023 is an annual event organized by the British Thoracic Society\, set to take place at the QEII Centre in London from the 22nd to the 24th of November 2023. The meeting will feature a full program of symposia\, guest lectures\, and various abstract sessions. It is an onsite event\, and booking is currently open. The event is designed for professionals in the respiratory field\, and it offers CME credits for attendees. Abstract submission for the event has closed\, and notifications have been sent out to the corresponding authors. \nFor those interested in attending\, early bird rates are available until the 2nd of October 2023\, with different rates for BTS members and non-members. The event also includes provisions for exhibitors who must be approved as BTS Approved Exhibitors and comply with relevant regulatory requirements.
URL:https://www.coehar.org/event/winter-meeting-2023/
LOCATION:London\, London\, United Kingdom
ATTACH;FMTTYPE=image/jpeg:https://www.coehar.org/wp-content/uploads/2023/11/winter-meeting.jpg
END:VEVENT
END:VCALENDAR