BEGIN:VCALENDAR
VERSION:2.0
PRODID:-//CoEHAR - ECPv6.15.20//NONSGML v1.0//EN
CALSCALE:GREGORIAN
METHOD:PUBLISH
X-ORIGINAL-URL:https://www.coehar.org
X-WR-CALDESC:Events for CoEHAR
REFRESH-INTERVAL;VALUE=DURATION:PT1H
X-Robots-Tag:noindex
X-PUBLISHED-TTL:PT1H
BEGIN:VTIMEZONE
TZID:Europe/Rome
BEGIN:DAYLIGHT
TZOFFSETFROM:+0100
TZOFFSETTO:+0200
TZNAME:CEST
DTSTART:20220327T010000
END:DAYLIGHT
BEGIN:STANDARD
TZOFFSETFROM:+0200
TZOFFSETTO:+0100
TZNAME:CET
DTSTART:20221030T010000
END:STANDARD
BEGIN:DAYLIGHT
TZOFFSETFROM:+0100
TZOFFSETTO:+0200
TZNAME:CEST
DTSTART:20230326T010000
END:DAYLIGHT
BEGIN:STANDARD
TZOFFSETFROM:+0200
TZOFFSETTO:+0100
TZNAME:CET
DTSTART:20231029T010000
END:STANDARD
BEGIN:DAYLIGHT
TZOFFSETFROM:+0100
TZOFFSETTO:+0200
TZNAME:CEST
DTSTART:20240331T010000
END:DAYLIGHT
BEGIN:STANDARD
TZOFFSETFROM:+0200
TZOFFSETTO:+0100
TZNAME:CET
DTSTART:20241027T010000
END:STANDARD
END:VTIMEZONE
BEGIN:VEVENT
DTSTART;VALUE=DATE:20231127
DTEND;VALUE=DATE:20231129
DTSTAMP:20260424T051114
CREATED:20231103T112837Z
LAST-MODIFIED:20231103T112848Z
UID:13321-1701043200-1701215999@www.coehar.org
SUMMARY:In Vitro Diagnostic (IVD) tests to combat antimicrobial resistance in community-acquired low-respiratory tract infections (CA-LRTI)
DESCRIPTION:This ERS research seminar aims to address challenges related to IVD implementation against antimicrobial resistance in respiratory infections. It will discuss strategies for improved antibiotic stewardship\, identify barriers to IVD implementation\, and facilitate round-table discussions among experts. Outcomes include a seminar report and a framework for clinical research on IVD utility for respiratory infections.
URL:https://www.coehar.org/event/in-vitro-diagnostic-ivd-tests-to-combat-antimicrobial-resistance-in-community-acquired-low-respiratory-tract-infections-ca-lrti/
LOCATION:Barcelona\, Barcelona\, Spain
ATTACH;FMTTYPE=image/jpeg:https://www.coehar.org/wp-content/uploads/2023/11/ivd.jpg
END:VEVENT
BEGIN:VEVENT
DTSTART;VALUE=DATE:20231128
DTEND;VALUE=DATE:20231203
DTSTAMP:20260424T051114
CREATED:20231103T111144Z
LAST-MODIFIED:20231103T111144Z
UID:13317-1701129600-1701561599@www.coehar.org
SUMMARY:13th Annual Congress of the European Society for Swallowing Disorders (ESSD 2023)
DESCRIPTION:The event is themed “Deglutition: what a junction!”​ \nFor a detailed description of the event\, please refer to the official event website or contact the organizers directly.
URL:https://www.coehar.org/event/13th-annual-congress-of-the-european-society-for-swallowing-disorders-essd-2023/
LOCATION:Toulouse\, Toulouse\, France
ATTACH;FMTTYPE=image/jpeg:https://www.coehar.org/wp-content/uploads/2023/11/essd-2023.jpg
END:VEVENT
END:VCALENDAR