BEGIN:VCALENDAR
VERSION:2.0
PRODID:-//CoEHAR - ECPv6.15.20//NONSGML v1.0//EN
CALSCALE:GREGORIAN
METHOD:PUBLISH
X-WR-CALNAME:CoEHAR
X-ORIGINAL-URL:https://www.coehar.org
X-WR-CALDESC:Events for CoEHAR
REFRESH-INTERVAL;VALUE=DURATION:PT1H
X-Robots-Tag:noindex
X-PUBLISHED-TTL:PT1H
BEGIN:VTIMEZONE
TZID:Europe/Rome
BEGIN:DAYLIGHT
TZOFFSETFROM:+0100
TZOFFSETTO:+0200
TZNAME:CEST
DTSTART:20230326T010000
END:DAYLIGHT
BEGIN:STANDARD
TZOFFSETFROM:+0200
TZOFFSETTO:+0100
TZNAME:CET
DTSTART:20231029T010000
END:STANDARD
BEGIN:DAYLIGHT
TZOFFSETFROM:+0100
TZOFFSETTO:+0200
TZNAME:CEST
DTSTART:20240331T010000
END:DAYLIGHT
BEGIN:STANDARD
TZOFFSETFROM:+0200
TZOFFSETTO:+0100
TZNAME:CET
DTSTART:20241027T010000
END:STANDARD
BEGIN:DAYLIGHT
TZOFFSETFROM:+0100
TZOFFSETTO:+0200
TZNAME:CEST
DTSTART:20250330T010000
END:DAYLIGHT
BEGIN:STANDARD
TZOFFSETFROM:+0200
TZOFFSETTO:+0100
TZNAME:CET
DTSTART:20251026T010000
END:STANDARD
END:VTIMEZONE
BEGIN:VEVENT
DTSTART;VALUE=DATE:20240320
DTEND;VALUE=DATE:20240324
DTSTAMP:20260424T112025
CREATED:20231030T134334Z
LAST-MODIFIED:20231030T134334Z
UID:13199-1710892800-1711238399@www.coehar.org
SUMMARY:2024 Annual Meeting - Society for Research on Nicotine and Tobacco
DESCRIPTION:The SRNT 2024 Annual Meeting is a significant event organized by the Society for Research on Nicotine and Tobacco\, offering a platform for the presentation and respectful discussion of the latest research findings in the field of nicotine and tobacco​. Traditionally held in late February\, though in 2024 it’s scheduled for March 20-23\, this meeting spans over three and a half days filled with a variety of academic and networking activities. The agenda includes topical network meetings\, keynote and plenary addresses\, paper sessions\, symposia\, scientific poster sessions\, receptions\, and satellite meetings\, providing a comprehensive overview of the recent advancements and ongoing research in the domain​​. \nMoreover\, participants have the chance to interact with global leaders in nicotine and tobacco research\, enriching their professional networks and gaining insight into the cutting-edge developments in the field. The meeting not only facilitates the exchange of knowledge but also provides leadership opportunities within SRNT’s many networks and committees\, task forces\, and work groups\, engaging members in a collaborative environment aimed at advancing the scientific understanding of nicotine and tobacco and their impact on public health​​. \nSimilar to past meetings\, the SRNT 2024 Annual Meeting is likely to feature a range of keynote speakers\, symposia\, podium sessions\, poster presentations\, and networking events\, embodying the community spirit and collaborative ethos that characterizes the SRNT community​​.
URL:https://www.coehar.org/event/2024-annual-meeting-society-for-research-on-nicotine-and-tobacco/
LOCATION:Edinburgh\, Edinburgh\, Scotland\, United Kingdom
ATTACH;FMTTYPE=image/jpeg:https://www.coehar.org/wp-content/uploads/2023/10/srnt-2024.jpg
END:VEVENT
END:VCALENDAR