BEGIN:VCALENDAR
VERSION:2.0
PRODID:-//CoEHAR - ECPv6.15.20//NONSGML v1.0//EN
CALSCALE:GREGORIAN
METHOD:PUBLISH
X-ORIGINAL-URL:https://www.coehar.org
X-WR-CALDESC:Events for CoEHAR
REFRESH-INTERVAL;VALUE=DURATION:PT1H
X-Robots-Tag:noindex
X-PUBLISHED-TTL:PT1H
BEGIN:VTIMEZONE
TZID:Europe/Rome
BEGIN:DAYLIGHT
TZOFFSETFROM:+0100
TZOFFSETTO:+0200
TZNAME:CEST
DTSTART:20230326T010000
END:DAYLIGHT
BEGIN:STANDARD
TZOFFSETFROM:+0200
TZOFFSETTO:+0100
TZNAME:CET
DTSTART:20231029T010000
END:STANDARD
BEGIN:DAYLIGHT
TZOFFSETFROM:+0100
TZOFFSETTO:+0200
TZNAME:CEST
DTSTART:20240331T010000
END:DAYLIGHT
BEGIN:STANDARD
TZOFFSETFROM:+0200
TZOFFSETTO:+0100
TZNAME:CET
DTSTART:20241027T010000
END:STANDARD
BEGIN:DAYLIGHT
TZOFFSETFROM:+0100
TZOFFSETTO:+0200
TZNAME:CEST
DTSTART:20250330T010000
END:DAYLIGHT
BEGIN:STANDARD
TZOFFSETFROM:+0200
TZOFFSETTO:+0100
TZNAME:CET
DTSTART:20251026T010000
END:STANDARD
END:VTIMEZONE
BEGIN:VEVENT
DTSTART;VALUE=DATE:20240612
DTEND;VALUE=DATE:20240615
DTSTAMP:20260424T155033
CREATED:20240208T105646Z
LAST-MODIFIED:20240208T105646Z
UID:13642-1718150400-1718409599@www.coehar.org
SUMMARY:Global Vape Forum 2024
DESCRIPTION:
URL:https://www.coehar.org/event/global-vape-forum-2024/
LOCATION:dubai\, Dubai\, United Arab Emirates
ATTACH;FMTTYPE=image/jpeg:https://www.coehar.org/wp-content/uploads/2024/02/global-vape-forum.jpg
END:VEVENT
BEGIN:VEVENT
DTSTART;VALUE=DATE:20240613
DTEND;VALUE=DATE:20240616
DTSTAMP:20260424T155033
CREATED:20240130T154128Z
LAST-MODIFIED:20240130T154128Z
UID:13609-1718236800-1718495999@www.coehar.org
SUMMARY:Global Forum on Nicotine 2024
DESCRIPTION:The 11th edition of the Global Forum on Nicotine (GFN) will take place from June 13th to 15th\, 2024\, at the Marriott Centrum Hotel in Warsaw\, Poland. The event focuses on the role of safer nicotine products in aiding smoking cessation\, exploring technological advances and their impact on public health and the economy. GFN24’s program includes keynotes\, panels\, regional and thematic workshops\, and tackles controversial issues in tobacco harm reduction. The conference will have simultaneous translation in Spanish and Russian for both in-person and online audiences.
URL:https://www.coehar.org/event/global-forum-on-nicotine-2024/
LOCATION:Warsaw\, Warsaw\, Poland
ATTACH;FMTTYPE=image/jpeg:https://www.coehar.org/wp-content/uploads/2024/01/gfn-center-card.2e16d0ba.fill-900x600-1.jpg
END:VEVENT
END:VCALENDAR