BEGIN:VCALENDAR
VERSION:2.0
PRODID:-//CoEHAR - ECPv6.15.20//NONSGML v1.0//EN
CALSCALE:GREGORIAN
METHOD:PUBLISH
X-ORIGINAL-URL:https://www.coehar.org
X-WR-CALDESC:Events for CoEHAR
REFRESH-INTERVAL;VALUE=DURATION:PT1H
X-Robots-Tag:noindex
X-PUBLISHED-TTL:PT1H
BEGIN:VTIMEZONE
TZID:Europe/Rome
BEGIN:DAYLIGHT
TZOFFSETFROM:+0100
TZOFFSETTO:+0200
TZNAME:CEST
DTSTART:20230326T010000
END:DAYLIGHT
BEGIN:STANDARD
TZOFFSETFROM:+0200
TZOFFSETTO:+0100
TZNAME:CET
DTSTART:20231029T010000
END:STANDARD
BEGIN:DAYLIGHT
TZOFFSETFROM:+0100
TZOFFSETTO:+0200
TZNAME:CEST
DTSTART:20240331T010000
END:DAYLIGHT
BEGIN:STANDARD
TZOFFSETFROM:+0200
TZOFFSETTO:+0100
TZNAME:CET
DTSTART:20241027T010000
END:STANDARD
BEGIN:DAYLIGHT
TZOFFSETFROM:+0100
TZOFFSETTO:+0200
TZNAME:CEST
DTSTART:20250330T010000
END:DAYLIGHT
BEGIN:STANDARD
TZOFFSETFROM:+0200
TZOFFSETTO:+0100
TZNAME:CET
DTSTART:20251026T010000
END:STANDARD
END:VTIMEZONE
BEGIN:VEVENT
DTSTART;VALUE=DATE:20240629
DTEND;VALUE=DATE:20240704
DTSTAMP:20260424T172223
CREATED:20240130T154450Z
LAST-MODIFIED:20240130T154450Z
UID:13612-1719619200-1720051199@www.coehar.org
SUMMARY:48th FEBS Congress – FEBS 2024
DESCRIPTION:The 48th FEBS Congress\, themed “Mining biochemistry for human health and well-being\,” will be held in Milan\, Italy\, from June 29th to July 3rd\, 2024. Organized by the Italian Society of Biochemistry and Molecular Biology (SIB)\, it will feature a comprehensive scientific program focusing on molecular and cellular approaches to human health and well-being. The congress will include educational sessions\, symposia organized by young biochemists\, and discussions related to the economic aspects of biochemistry. It will be preceded by the FEBS Young Scientists’ Forum in Pavia. \nFor more details\, please visit the official website of the 48th FEBS Congress.
URL:https://www.coehar.org/event/48th-febs-congress-febs-2024/
LOCATION:Milano\, Milano\, Italy
ATTACH;FMTTYPE=image/jpeg:https://www.coehar.org/wp-content/uploads/2024/01/48th-FEBS-Congress-–-FEBS-2024.jpg
END:VEVENT
END:VCALENDAR