BEGIN:VCALENDAR
VERSION:2.0
PRODID:-//CoEHAR - ECPv6.15.20//NONSGML v1.0//EN
CALSCALE:GREGORIAN
METHOD:PUBLISH
X-ORIGINAL-URL:https://www.coehar.org
X-WR-CALDESC:Events for CoEHAR
REFRESH-INTERVAL;VALUE=DURATION:PT1H
X-Robots-Tag:noindex
X-PUBLISHED-TTL:PT1H
BEGIN:VTIMEZONE
TZID:Europe/Rome
BEGIN:DAYLIGHT
TZOFFSETFROM:+0100
TZOFFSETTO:+0200
TZNAME:CEST
DTSTART:20230326T010000
END:DAYLIGHT
BEGIN:STANDARD
TZOFFSETFROM:+0200
TZOFFSETTO:+0100
TZNAME:CET
DTSTART:20231029T010000
END:STANDARD
BEGIN:DAYLIGHT
TZOFFSETFROM:+0100
TZOFFSETTO:+0200
TZNAME:CEST
DTSTART:20240331T010000
END:DAYLIGHT
BEGIN:STANDARD
TZOFFSETFROM:+0200
TZOFFSETTO:+0100
TZNAME:CET
DTSTART:20241027T010000
END:STANDARD
BEGIN:DAYLIGHT
TZOFFSETFROM:+0100
TZOFFSETTO:+0200
TZNAME:CEST
DTSTART:20250330T010000
END:DAYLIGHT
BEGIN:STANDARD
TZOFFSETFROM:+0200
TZOFFSETTO:+0100
TZNAME:CET
DTSTART:20251026T010000
END:STANDARD
END:VTIMEZONE
BEGIN:VEVENT
DTSTART;VALUE=DATE:20240908
DTEND;VALUE=DATE:20240912
DTSTAMP:20260424T201323
CREATED:20240130T155508Z
LAST-MODIFIED:20240130T155508Z
UID:13615-1725753600-1726099199@www.coehar.org
SUMMARY:EUROTOX 2024
DESCRIPTION:The EUROTOX 2024 Congress\, hosted by the Danish Society of Toxicology and Pharmacology\, will be held in Copenhagen from September 8th to 11th\, 2024. Themed “Toxicology – A Quest for Safe Chemicals and Medicines”\, the event will cover drug safety\, environmental chemicals\, new technologies\, personalized medicine\, health effects from chemical exposure\, and safety issues related to climate change. The congress will take place at the Tivoli Congress Center\, located in the city center. \nFor more details\, please visit the EUROTOX 2024 official website.
URL:https://www.coehar.org/event/eurotox-2024/
LOCATION:Copenaghen\, Copenaghen\, Denmark
ATTACH;FMTTYPE=image/jpeg:https://www.coehar.org/wp-content/uploads/2024/01/eurotox.jpg
END:VEVENT
BEGIN:VEVENT
DTSTART;VALUE=DATE:20240908
DTEND;VALUE=DATE:20240912
DTSTAMP:20260424T201323
CREATED:20240704T073801Z
LAST-MODIFIED:20240704T073801Z
UID:14271-1725753600-1726099199@www.coehar.org
SUMMARY:EUROTOX 2024
DESCRIPTION:EUROTOX 2024\, organized by the Danish Society for Toxicology and Pharmacology\, will focus on drug safety and environmental chemical safety. The theme is “Toxicology – A Quest for Safe Chemicals and Medicines\,” covering topics from new technologies to personalized medicine and human health impacts of chemical exposure. The event will also provide opportunities for young researchers to present their latest work.
URL:https://www.coehar.org/event/eurotox-2024-2/
LOCATION:Copenaghen\, Copenaghen\, Denmark
ATTACH;FMTTYPE=image/jpeg:https://www.coehar.org/wp-content/uploads/2024/07/EUROTOX-2024.jpg
END:VEVENT
END:VCALENDAR