BEGIN:VCALENDAR
VERSION:2.0
PRODID:-//CoEHAR - ECPv6.15.20//NONSGML v1.0//EN
CALSCALE:GREGORIAN
METHOD:PUBLISH
X-ORIGINAL-URL:https://www.coehar.org
X-WR-CALDESC:Events for CoEHAR
REFRESH-INTERVAL;VALUE=DURATION:PT1H
X-Robots-Tag:noindex
X-PUBLISHED-TTL:PT1H
BEGIN:VTIMEZONE
TZID:Europe/Rome
BEGIN:DAYLIGHT
TZOFFSETFROM:+0100
TZOFFSETTO:+0200
TZNAME:CEST
DTSTART:20230326T010000
END:DAYLIGHT
BEGIN:STANDARD
TZOFFSETFROM:+0200
TZOFFSETTO:+0100
TZNAME:CET
DTSTART:20231029T010000
END:STANDARD
BEGIN:DAYLIGHT
TZOFFSETFROM:+0100
TZOFFSETTO:+0200
TZNAME:CEST
DTSTART:20240331T010000
END:DAYLIGHT
BEGIN:STANDARD
TZOFFSETFROM:+0200
TZOFFSETTO:+0100
TZNAME:CET
DTSTART:20241027T010000
END:STANDARD
BEGIN:DAYLIGHT
TZOFFSETFROM:+0100
TZOFFSETTO:+0200
TZNAME:CEST
DTSTART:20250330T010000
END:DAYLIGHT
BEGIN:STANDARD
TZOFFSETFROM:+0200
TZOFFSETTO:+0100
TZNAME:CET
DTSTART:20251026T010000
END:STANDARD
END:VTIMEZONE
BEGIN:VEVENT
DTSTART;VALUE=DATE:20241010
DTEND;VALUE=DATE:20241014
DTSTAMP:20260424T214343
CREATED:20241001T113459Z
LAST-MODIFIED:20241001T113555Z
UID:14434-1728518400-1728863999@www.coehar.org
SUMMARY:Beyond Borders: United for Mental Health
DESCRIPTION:The international event “Beyond Borders: United for Mental Health” includes the 8th Eastern European Conference of Mental Health “In and Out of Your Mind” and the 4th International Congress of SPNPPC. Organized by MHASEE\, SPNPPC\, and Nicolae Testemitanu State University of Medicine and Pharmacy\, it will bring together mental health professionals\, researchers\, and advocates to foster dialogue and collaboration in the field.
URL:https://www.coehar.org/event/beyond-borders-united-for-mental-health/
LOCATION:Chisinau\, Chisinau\, Moldova\, Republic of
ATTACH;FMTTYPE=image/webp:https://www.coehar.org/wp-content/uploads/2024/10/Beyond-Borders-United-for-Mental-Health.webp
END:VEVENT
BEGIN:VEVENT
DTSTART;VALUE=DATE:20241013
DTEND;VALUE=DATE:20241018
DTSTAMP:20260424T214343
CREATED:20240704T074642Z
LAST-MODIFIED:20240704T074642Z
UID:14282-1728777600-1729209599@www.coehar.org
SUMMARY:CORESTA Congress 2024
DESCRIPTION:The CORESTA Congress 2024 will be held in Edinburgh at the Edinburgh International Convention Centre (EICC). The main objective is to advance the knowledge and understanding of Tobacco Harm Reduction (THR) science\, covering aspects from agricultural raw material production to product characterization\, nonclinical and clinical assessment\, and product use behavior.
URL:https://www.coehar.org/event/coresta-congress-2024/
LOCATION:Edinburgh\, Edinburgh\, Scotland\, United Kingdom
ATTACH;FMTTYPE=image/jpeg:https://www.coehar.org/wp-content/uploads/2024/07/CORESTA-Congress-2024.jpg
END:VEVENT
END:VCALENDAR