BEGIN:VCALENDAR
VERSION:2.0
PRODID:-//CoEHAR - ECPv6.15.20//NONSGML v1.0//EN
CALSCALE:GREGORIAN
METHOD:PUBLISH
X-WR-CALNAME:CoEHAR
X-ORIGINAL-URL:https://www.coehar.org
X-WR-CALDESC:Events for CoEHAR
REFRESH-INTERVAL;VALUE=DURATION:PT1H
X-Robots-Tag:noindex
X-PUBLISHED-TTL:PT1H
BEGIN:VTIMEZONE
TZID:Europe/Rome
BEGIN:DAYLIGHT
TZOFFSETFROM:+0100
TZOFFSETTO:+0200
TZNAME:CEST
DTSTART:20230326T010000
END:DAYLIGHT
BEGIN:STANDARD
TZOFFSETFROM:+0200
TZOFFSETTO:+0100
TZNAME:CET
DTSTART:20231029T010000
END:STANDARD
BEGIN:DAYLIGHT
TZOFFSETFROM:+0100
TZOFFSETTO:+0200
TZNAME:CEST
DTSTART:20240331T010000
END:DAYLIGHT
BEGIN:STANDARD
TZOFFSETFROM:+0200
TZOFFSETTO:+0100
TZNAME:CET
DTSTART:20241027T010000
END:STANDARD
BEGIN:DAYLIGHT
TZOFFSETFROM:+0100
TZOFFSETTO:+0200
TZNAME:CEST
DTSTART:20250330T010000
END:DAYLIGHT
BEGIN:STANDARD
TZOFFSETFROM:+0200
TZOFFSETTO:+0100
TZNAME:CET
DTSTART:20251026T010000
END:STANDARD
END:VTIMEZONE
BEGIN:VEVENT
DTSTART;VALUE=DATE:20241028
DTEND;VALUE=DATE:20241030
DTSTAMP:20260424T214127
CREATED:20240718T150655Z
LAST-MODIFIED:20240718T150737Z
UID:14328-1730073600-1730246399@www.coehar.org
SUMMARY:27th Nicotine and Tobacco Science Conference
DESCRIPTION:The 27th Nicotine and Tobacco Science Conference will focus on the risks and benefits of consumer nicotine delivery systems\, presenting emerging evidence and open questions. The event will feature invited presentations\, discussion panels\, and poster sessions\, with both in-person and remote participation options.
URL:https://www.coehar.org/event/27th-nicotine-and-tobacco-science-conference/
LOCATION:Charleston\, Charleston\, United States
ATTACH;FMTTYPE=image/jpeg:https://www.coehar.org/wp-content/uploads/2024/07/27th-Nicotine-and-Tobacco-Science-Conference.jpg
END:VEVENT
END:VCALENDAR