BEGIN:VCALENDAR
VERSION:2.0
PRODID:-//CoEHAR - ECPv6.15.20//NONSGML v1.0//EN
CALSCALE:GREGORIAN
METHOD:PUBLISH
X-ORIGINAL-URL:https://www.coehar.org
X-WR-CALDESC:Events for CoEHAR
REFRESH-INTERVAL;VALUE=DURATION:PT1H
X-Robots-Tag:noindex
X-PUBLISHED-TTL:PT1H
BEGIN:VTIMEZONE
TZID:Europe/Rome
BEGIN:DAYLIGHT
TZOFFSETFROM:+0100
TZOFFSETTO:+0200
TZNAME:CEST
DTSTART:20220327T010000
END:DAYLIGHT
BEGIN:STANDARD
TZOFFSETFROM:+0200
TZOFFSETTO:+0100
TZNAME:CET
DTSTART:20221030T010000
END:STANDARD
BEGIN:DAYLIGHT
TZOFFSETFROM:+0100
TZOFFSETTO:+0200
TZNAME:CEST
DTSTART:20230326T010000
END:DAYLIGHT
BEGIN:STANDARD
TZOFFSETFROM:+0200
TZOFFSETTO:+0100
TZNAME:CET
DTSTART:20231029T010000
END:STANDARD
BEGIN:DAYLIGHT
TZOFFSETFROM:+0100
TZOFFSETTO:+0200
TZNAME:CEST
DTSTART:20240331T010000
END:DAYLIGHT
BEGIN:STANDARD
TZOFFSETFROM:+0200
TZOFFSETTO:+0100
TZNAME:CET
DTSTART:20241027T010000
END:STANDARD
END:VTIMEZONE
BEGIN:VEVENT
DTSTART;VALUE=DATE:20231008
DTEND;VALUE=DATE:20231013
DTSTAMP:20260424T020303
CREATED:20230308T143632Z
LAST-MODIFIED:20230308T143632Z
UID:11229-1696723200-1697155199@www.coehar.org
SUMMARY:Smoke-Techno Conference (SSPT2023)
DESCRIPTION:CORESTA is very pleased to announce that the next\nCORESTA Smoke Science & Product Technology Conference (SSPT2023)\nwill be held in-person from 8-12 October 2023\, in Cancun\, Mexico. \nMore information about the Conference will be made available in due course.
URL:https://www.coehar.org/event/smoke-techno-conference-sspt2023/
LOCATION:Cancun\, Cancun\, Mexico
ATTACH;FMTTYPE=image/jpeg:https://www.coehar.org/wp-content/uploads/2023/03/coresta-sspt-2023.jpg
END:VEVENT
BEGIN:VEVENT
DTSTART;VALUE=DATE:20231015
DTEND;VALUE=DATE:20231020
DTSTAMP:20260424T020303
CREATED:20230308T143513Z
LAST-MODIFIED:20230308T143513Z
UID:11226-1697328000-1697759999@www.coehar.org
SUMMARY:Agro-Phyto Conference (AP2023)
DESCRIPTION:CORESTA is very pleased to announce that the next\nCORESTA Agronomy & Leaf Integrity and Phytopathology & Genetics Conference (AP2023)\nwill be held in-person from 15-19 October 2023\, in Cancun\, Mexico. \nMore information about the Conference will be available in due course.
URL:https://www.coehar.org/event/agro-phyto-conference-ap2023/
LOCATION:Cancun\, Cancun\, Mexico
ATTACH;FMTTYPE=image/jpeg:https://www.coehar.org/wp-content/uploads/2023/03/coresta-ap-2023.jpg
END:VEVENT
BEGIN:VEVENT
DTSTART;VALUE=DATE:20231015
DTEND;VALUE=DATE:20231020
DTSTAMP:20260424T020303
CREATED:20230517T131848Z
LAST-MODIFIED:20230517T131848Z
UID:11736-1697328000-1697759999@www.coehar.org
SUMMARY:Coresta AP 2023
DESCRIPTION:After three years of virtual Conferences and Congresses\, it will be a real pleasure to welcome you to the next CORESTA Agro-Phyto Conference (AP2023) to be held in Cancún\, Mexico\, from 15-19 October 2023. \nLocated in the state of Quintana Roo on the Yucatán Peninsula in eastern Mexico\, Cancún used to be a small fishing village in the mid-sixties. Today it is a vibrant city with a population of more than eight hundred thousand people and is globally recognised as a top tourist destination. \nMayan culture flourished in the Yucatán Peninsula and it has historically been renowned for its global scientific and technological contributions to modern civilization. The use of rolled tobacco is also known to have been practiced in the Yucatan Peninsula and the word “sikar” may be the origin of the English words “cigar” and “cigarettes”. \nThe mission of CORESTA is to promote and facilitate international cooperation and best practices in scientific research relative to tobacco and its derived products. Its vision is to be recognised as an authoritative source of publicly available\, credible science and best practices. \nThe AP2023 Conference is being organised by CORESTA and follows on from the SSPT2023 Conference organised by Mother Murphy’s Laboratories. \nThe objective of the CORESTA AP2023 Conference is to provide the scientific community with opportunities for discussions with international specialists leading to fruitful collaborations\, and multiple occasions for interactions and networking. We also strive to offer scientists the chance to share their knowledge and experience\, and the CORESTA Agronomy & Leaf Integrity and Phytopathology & Genetics Study Groups are preparing an attractive scientific programme with high level scientific presentations and thematic workshops. We thank all presenters who will contribute to the quality of the programme and all participants who will attend in an open and cooperative spirit. \nWe are confident that the venue and the programme will meet your expectations\, and we look forward to welcoming you in this unique environment and to working together to advance science and knowledge.
URL:https://www.coehar.org/event/coresta-ap-2023/
LOCATION:Cancun\, Cancun\, Mexico
ATTACH;FMTTYPE=image/jpeg:https://www.coehar.org/wp-content/uploads/2023/05/coresta-ap-2023.jpg
END:VEVENT
BEGIN:VEVENT
DTSTART;VALUE=DATE:20231018
DTEND;VALUE=DATE:20231021
DTSTAMP:20260424T020303
CREATED:20230905T182901Z
LAST-MODIFIED:20230905T183004Z
UID:12616-1697587200-1697846399@www.coehar.org
SUMMARY:24th National Congress of the Italian Society for the Study of Cardiovascular Research
DESCRIPTION:CONGRESS STRUCTURE \nThe Congress is divided into 8 research areas\, each with its own symposium: \nArea 1: Climate Change and Environmental Pollution \nOpen questions: \n\nHow do climate change and environmental pollution damage our hearts and vessels?\nHow can we protect them?\n\nSymposium: Climate change and Environmental Pollution \nArea 2: Biotechnology\, Bioengineering\, and Artificial Intelligence \nOpen questions: \n\nHow to overcome technological limitations in cardiovascular research?\nWhat are the latest technologies for precision diagnosis and therapy of the heart and vessels?\n\nSymposium: Biotechnology\, bioengineering\, and artificial intelligence \nArea 3: From Nutraceuticals to Ristoceutics \nOpen questions: \n\nHow do natural compounds\, foods\, or functional meals damage or protect the heart and vessels?\n\nSymposium: From nutraceuticals to ristoceutics \nArea 4: Gender Differences \nOpen questions: \n\nWhat is the impact of sex or gender on the occurrence of cardiovascular disease?\nHow does the response to a drug or food change by gender?\n\nSymposium: Gender differences \nArea 5: Aging \nOpen questions: \n\nWhat is the impact of aging or senescence on the onset of cardiovascular disease?\nHow can a drug or food rejuvenate the heart and vessels?\n\nSymposium: Aging \nArea 6: Covid-19 \nOpen questions: \n\nHow does SARS-CoV2 damage the heart and vessels?\nHow to protect them in the patient with COVID19?\n\nSymposium: Covid-19 \nArea 7: Integrity and Ethics in Research and Animal Models \nOpen questions: \n\nAre there alternative models to animals for the study of heart and vessels?\nWhat are the controls on the integrity and ethics of cardiovascular research?\n\nSymposium: Integrity and ethics in research and animal models \nArea 8: Cardiovascular Miscellaneous \nOpen questions: \n\nWhat are the other new frontiers of cardiovascular research?\n\nSymposium: Cardiovascular miscellaneous
URL:https://www.coehar.org/event/24th-national-congress-of-the-italian-society-for-the-study-of-cardiovascular-research/
LOCATION:Imola\, Imola\, Italy
ATTACH;FMTTYPE=image/jpeg:https://www.coehar.org/wp-content/uploads/2023/09/Progetto-senza-titolo-10.jpg
END:VEVENT
BEGIN:VEVENT
DTSTART;VALUE=DATE:20231019
DTEND;VALUE=DATE:20231020
DTSTAMP:20260424T020303
CREATED:20231016T095200Z
LAST-MODIFIED:20231016T095200Z
UID:13041-1697673600-1697759999@www.coehar.org
SUMMARY:SMOKING CESSATION & TOBACCO HARM REDUCTION: WHO\, WHAT\, WHY\, AND HOW?
DESCRIPTION:This year’s conference will feature industry-leading speakers to help us dive deep into the discussion on the Who\, What\, Why\, and How of Smoking Cessation and Tobacco Harm Reduction. The NTSC Conference will have several opportunities for discussion and engagement with speakers and participants.
URL:https://www.coehar.org/event/smoking-cessation-tobacco-harm-reduction-who-what-why-and-how/
LOCATION:Durham\, Durham\, United Kingdom
ATTACH;FMTTYPE=image/jpeg:https://www.coehar.org/wp-content/uploads/2023/10/tobacco-science.jpg
END:VEVENT
END:VCALENDAR