BEGIN:VCALENDAR
VERSION:2.0
PRODID:-//CoEHAR - ECPv6.15.20//NONSGML v1.0//EN
CALSCALE:GREGORIAN
METHOD:PUBLISH
X-WR-CALNAME:CoEHAR
X-ORIGINAL-URL:https://www.coehar.org
X-WR-CALDESC:Events for CoEHAR
REFRESH-INTERVAL;VALUE=DURATION:PT1H
X-Robots-Tag:noindex
X-PUBLISHED-TTL:PT1H
BEGIN:VTIMEZONE
TZID:Europe/Rome
BEGIN:DAYLIGHT
TZOFFSETFROM:+0100
TZOFFSETTO:+0200
TZNAME:CEST
DTSTART:20230326T010000
END:DAYLIGHT
BEGIN:STANDARD
TZOFFSETFROM:+0200
TZOFFSETTO:+0100
TZNAME:CET
DTSTART:20231029T010000
END:STANDARD
BEGIN:DAYLIGHT
TZOFFSETFROM:+0100
TZOFFSETTO:+0200
TZNAME:CEST
DTSTART:20240331T010000
END:DAYLIGHT
BEGIN:STANDARD
TZOFFSETFROM:+0200
TZOFFSETTO:+0100
TZNAME:CET
DTSTART:20241027T010000
END:STANDARD
BEGIN:DAYLIGHT
TZOFFSETFROM:+0100
TZOFFSETTO:+0200
TZNAME:CEST
DTSTART:20250330T010000
END:DAYLIGHT
BEGIN:STANDARD
TZOFFSETFROM:+0200
TZOFFSETTO:+0100
TZNAME:CET
DTSTART:20251026T010000
END:STANDARD
END:VTIMEZONE
BEGIN:VEVENT
DTSTART;VALUE=DATE:20240525
DTEND;VALUE=DATE:20240528
DTSTAMP:20260424T124300
CREATED:20240424T131314Z
LAST-MODIFIED:20240424T131352Z
UID:13905-1716595200-1716854399@www.coehar.org
SUMMARY:Vapitaly a Verona
DESCRIPTION:A three-day B2B & B2C exhibition held at the Veronafiere fairground. Saturday and Sunday are open to the public\, while Monday is reserved for industry operators.
URL:https://www.coehar.org/event/vapitaly-a-verona/
LOCATION:Veronafiere\, Viale dell’Industria\, 36\, Verona\, VR\, 37135\, Italy
ATTACH;FMTTYPE=image/png:https://www.coehar.org/wp-content/uploads/2024/04/vapitaly.png
END:VEVENT
BEGIN:VEVENT
DTSTART;TZID=Europe/Rome:20240530T083000
DTEND;TZID=Europe/Rome:20240530T083000
DTSTAMP:20260424T124300
CREATED:20240522T160016Z
LAST-MODIFIED:20240522T160032Z
UID:14001-1717057800-1717057800@www.coehar.org
SUMMARY:CoEHAR No Tobacco Day 2024
DESCRIPTION:On the occasion of World No Tobacco Day 2024\, CoEHAR (Center of Excellence for the Acceleration of Harm Reduction at the University of Catania)\, in collaboration with LIAF (Italian Anti-Smoking League) and several student associations\, is organizing the first roundtable dedicated to the anti-smoking campaign entirely coordinated by young students\, postgraduates\, and researchers who have distinguished themselves for their commitment to the topic.
URL:https://www.coehar.org/event/coehar-no-tobacco-day-2024/
LOCATION:Torre Biologica\, Via Santa Sofia 89\, Catania\, 95123\, Italia
ATTACH;FMTTYPE=image/jpeg:https://www.coehar.org/wp-content/uploads/2021/03/no-tobacco-day-2024.jpg
END:VEVENT
BEGIN:VEVENT
DTSTART;VALUE=DATE:20240531
DTEND;VALUE=DATE:20240601
DTSTAMP:20260424T124300
CREATED:20231016T105349Z
LAST-MODIFIED:20231016T105349Z
UID:13046-1717113600-1717199999@www.coehar.org
SUMMARY:No Tobacco Day 2024
DESCRIPTION:On May 31\, 2024\, the entire world will come together once again to mark “World No Tobacco Day”. This annual event\, championed by the World Health Organization\, aims to raise awareness about the dangers of tobacco use and exposure to secondhand smoke. Every year\, millions perish due to tobacco-related diseases\, making this cause one of the leading threats to global public health. \nFurther details about the event and planned initiatives will be available in the first quarter of 2024. Cities across the globe will host events and awareness campaigns\, inviting both smokers and non-smokers to reflect on the importance of saying no to tobacco. \nJoin us on this day of awareness and commitment towards a healthier\, tobacco-free world!
URL:https://www.coehar.org/event/no-tobacco-day-2024/
LOCATION:Piazza Università catania\, Via Roccaforte\, Catania\, Catania\, 95124\, Italia
ATTACH;FMTTYPE=image/png:https://www.coehar.org/wp-content/uploads/2023/10/no-tobacco-day.png
END:VEVENT
END:VCALENDAR