BEGIN:VCALENDAR
VERSION:2.0
PRODID:-//CoEHAR - ECPv6.15.20//NONSGML v1.0//EN
CALSCALE:GREGORIAN
METHOD:PUBLISH
X-ORIGINAL-URL:https://www.coehar.org
X-WR-CALDESC:Events for CoEHAR
REFRESH-INTERVAL;VALUE=DURATION:PT1H
X-Robots-Tag:noindex
X-PUBLISHED-TTL:PT1H
BEGIN:VTIMEZONE
TZID:Europe/Rome
BEGIN:DAYLIGHT
TZOFFSETFROM:+0100
TZOFFSETTO:+0200
TZNAME:CEST
DTSTART:20230326T010000
END:DAYLIGHT
BEGIN:STANDARD
TZOFFSETFROM:+0200
TZOFFSETTO:+0100
TZNAME:CET
DTSTART:20231029T010000
END:STANDARD
BEGIN:DAYLIGHT
TZOFFSETFROM:+0100
TZOFFSETTO:+0200
TZNAME:CEST
DTSTART:20240331T010000
END:DAYLIGHT
BEGIN:STANDARD
TZOFFSETFROM:+0200
TZOFFSETTO:+0100
TZNAME:CET
DTSTART:20241027T010000
END:STANDARD
BEGIN:DAYLIGHT
TZOFFSETFROM:+0100
TZOFFSETTO:+0200
TZNAME:CEST
DTSTART:20250330T010000
END:DAYLIGHT
BEGIN:STANDARD
TZOFFSETFROM:+0200
TZOFFSETTO:+0100
TZNAME:CET
DTSTART:20251026T010000
END:STANDARD
END:VTIMEZONE
BEGIN:VEVENT
DTSTART;VALUE=DATE:20240908
DTEND;VALUE=DATE:20240912
DTSTAMP:20260424T184201
CREATED:20240130T155508Z
LAST-MODIFIED:20240130T155508Z
UID:13615-1725753600-1726099199@www.coehar.org
SUMMARY:EUROTOX 2024
DESCRIPTION:The EUROTOX 2024 Congress\, hosted by the Danish Society of Toxicology and Pharmacology\, will be held in Copenhagen from September 8th to 11th\, 2024. Themed “Toxicology – A Quest for Safe Chemicals and Medicines”\, the event will cover drug safety\, environmental chemicals\, new technologies\, personalized medicine\, health effects from chemical exposure\, and safety issues related to climate change. The congress will take place at the Tivoli Congress Center\, located in the city center. \nFor more details\, please visit the EUROTOX 2024 official website.
URL:https://www.coehar.org/event/eurotox-2024/
LOCATION:Copenaghen\, Copenaghen\, Denmark
ATTACH;FMTTYPE=image/jpeg:https://www.coehar.org/wp-content/uploads/2024/01/eurotox.jpg
END:VEVENT
BEGIN:VEVENT
DTSTART;VALUE=DATE:20240908
DTEND;VALUE=DATE:20240912
DTSTAMP:20260424T184201
CREATED:20240704T073801Z
LAST-MODIFIED:20240704T073801Z
UID:14271-1725753600-1726099199@www.coehar.org
SUMMARY:EUROTOX 2024
DESCRIPTION:EUROTOX 2024\, organized by the Danish Society for Toxicology and Pharmacology\, will focus on drug safety and environmental chemical safety. The theme is “Toxicology – A Quest for Safe Chemicals and Medicines\,” covering topics from new technologies to personalized medicine and human health impacts of chemical exposure. The event will also provide opportunities for young researchers to present their latest work.
URL:https://www.coehar.org/event/eurotox-2024-2/
LOCATION:Copenaghen\, Copenaghen\, Denmark
ATTACH;FMTTYPE=image/jpeg:https://www.coehar.org/wp-content/uploads/2024/07/EUROTOX-2024.jpg
END:VEVENT
BEGIN:VEVENT
DTSTART;VALUE=DATE:20240915
DTEND;VALUE=DATE:20240918
DTSTAMP:20260424T184201
CREATED:20240704T074357Z
LAST-MODIFIED:20240704T074423Z
UID:14278-1726358400-1726617599@www.coehar.org
SUMMARY:XXIII Congress of the Section of Clinical Psychology and Dynamics AIP
DESCRIPTION:The XXIII National Congress of the Section of Clinical Psychology and Dynamics of the Italian Psychological Association will be held in Florence from September 15-17\, 2023. This event will bring together professionals and researchers to discuss the latest findings and practices in clinical and dynamic psychology\, fostering the exchange of ideas and collaboration in the field.
URL:https://www.coehar.org/event/xxiii-congress-of-the-section-of-clinical-psychology-and-dynamics-aip/
LOCATION:Florence\, Florence\, Italy
END:VEVENT
BEGIN:VEVENT
DTSTART;VALUE=DATE:20240916
DTEND;VALUE=DATE:20240918
DTSTAMP:20260424T184201
CREATED:20240320T113034Z
LAST-MODIFIED:20240320T113034Z
UID:13748-1726444800-1726617599@www.coehar.org
SUMMARY:7th Summit on Tobacco Harm Reduction
DESCRIPTION:This international event\, organized by SCOHRE\, will be held virtually\, inviting global participants to discuss tobacco control\, smoking cessation\, novel tobacco products\, regulatory issues\, and developments. The aim is to exceed last year’s attendance of over 250 participants from 30 countries.
URL:https://www.coehar.org/event/7th-summit-on-tobacco-harm-reduction/
LOCATION:Zoom
ATTACH;FMTTYPE=image/jpeg:https://www.coehar.org/wp-content/uploads/2024/03/seven-summit-thr.jpg
END:VEVENT
BEGIN:VEVENT
DTSTART;VALUE=DATE:20240916
DTEND;VALUE=DATE:20240918
DTSTAMP:20260424T184201
CREATED:20240704T074111Z
LAST-MODIFIED:20240704T074111Z
UID:14274-1726444800-1726617599@www.coehar.org
SUMMARY:7th Scientific Summit on Tobacco Harm Reduction
DESCRIPTION:The 7th Scientific Summit on Tobacco Harm Reduction\, organized by SCOHRE\, will be held virtually on September 16-17\, 2024. The event aims to facilitate constructive dialogue to address the global burden of smoking\, featuring basic research and clinical evidence from scientists across various fields to promote evidence-based policymaking and combat misinformation.
URL:https://www.coehar.org/event/7th-scientific-summit-on-tobacco-harm-reduction/
LOCATION:Zoom
ATTACH;FMTTYPE=image/jpeg:https://www.coehar.org/wp-content/uploads/2024/07/7th-Scientific-Summit-on-Tobacco-Harm-Reduction.jpg
END:VEVENT
BEGIN:VEVENT
DTSTART;VALUE=DATE:20240924
DTEND;VALUE=DATE:20240927
DTSTAMP:20260424T184201
CREATED:20240704T072951Z
LAST-MODIFIED:20240704T072951Z
UID:14268-1727136000-1727395199@www.coehar.org
SUMMARY:GTNF 2024 - Advancing Responsible Innovation
DESCRIPTION:GTNF 2024\, held at the Divani Apollon Hotel\, focuses on responsible innovation in the tobacco and nicotine industry. This interactive event features keynote speakers and experts from public health\, government\, and finance\, providing networking opportunities and dynamic discussions on balancing innovation with harm reduction and consumer satisfaction principles. Register today to join this exclusive event.
URL:https://www.coehar.org/event/gtnf-2024-advancing-responsible-innovation/
LOCATION:Athene\, Athene\, Greece
ATTACH;FMTTYPE=image/jpeg:https://www.coehar.org/wp-content/uploads/2024/07/gtnf.jpg
END:VEVENT
END:VCALENDAR